BEGIN:VCALENDAR
VERSION:2.0
PRODID:-//eventon.com NONSGML v1.0//EN
CALSCALE:GREGORIAN
METHOD:PUBLISH
BEGIN:VEVENT
UID:69e9f2712f4a2
DTSTAMP:20260423T102033Z
DTSTART:20190625T130000Z
DTEND:20190625T160000Z
LOCATION:Prinsentuin van Cooth Tuinzigtlaan 10
SUMMARY:Regio bijeenkomst West
DESCRIPTION:Beste collega’s\,  Op dinsdag 25 juni a.s. komt ‘s middags 
 de VBG-regio West bijeen. Jullie zijn allemaal van harte uitgenodigd. De bi
 jeenkomst vindt plaats op  VBG-school ‘Prinsentuin Van Cooth’\,  adres
 : Tuinzigtlaan 10\,  4812 XN Breda. We starten om 13.30 uur (inloop vanaf 1
 3.00 uur; het einde van de bijeenkomst is[..]\nhttps://www.vbgscholen.nl/ev
 enementen/regio-bijeenkomst-west/
URL:https://www.vbgscholen.nl/evenementen/regio-bijeenkomst-west/
END:VEVENT
END:VCALENDAR